BEGIN:VCALENDAR
VERSION:2.0
PRODID:-ABConcerts-events
METHOD:PUBLISH
BEGIN:VEVENT
TRANSP:OPAQUE
DTSTART:20180310T210000
DTEND:20180310T020000
SUMMARY:Lotto Late Night: Dusky
LOCATION:AB Club - staand (Anspachlaan 110\, 1000 Brussel)
DESCRIPTION:17 Steps label tour with Hugo Massien and new EP ‘Cold\nHeart’ as travelmates!
URL;VALUE=URI:https://www.abconcerts.be/en/agenda/lotto-late-night-dusky/a105J000001wdJyQAI
UID:ABConcerts_event_673af5f0-599f-11eb-89e3-5254eb761bff
SEQUENCE:0
DTSTAMP:20260420T000043Z
END:VEVENT
END:VCALENDAR
