BEGIN:VCALENDAR
VERSION:2.0
PRODID:-ABConcerts-events
METHOD:PUBLISH
BEGIN:VEVENT
TRANSP:OPAQUE
DTSTART:20270116T160000
DTEND:20270116T181500
SUMMARY:Lord Of The Rings and The Hobbit in concert
LOCATION:AB Grote zaal (Anspachlaan 110\, 1000 Brussel)
DESCRIPTION:Cancelled
URL;VALUE=URI:https://www.abconcerts.be/en/agenda/lord-of-the-rings-and-the-hobbit-in-concert/a10Qw00000DdrWPIAZ
UID:ABConcerts_event_1f0d05f0-85bb-63e4-aaad-e3f85efda1e9
SEQUENCE:0
DTSTAMP:20260424T101158Z
END:VEVENT
END:VCALENDAR
