BEGIN:VCALENDAR
VERSION:2.0
PRODID:-ABConcerts-events
METHOD:PUBLISH
BEGIN:VEVENT
TRANSP:OPAQUE
DTSTART:20150608T200000
DTEND:20150608T223000
SUMMARY:Liturgy : Transcendental Black Metal
LOCATION:AB Club - staand (Anspachlaan 110\, 1000 Brussel)
DESCRIPTION:highly innovative and exciting Transcendental Black Metal
URL;VALUE=URI:https://www.abconcerts.be/en/agenda/liturgy-transcendental-black-metal/a105J000001wdjpQAA
UID:ABConcerts_event_882103e4-59a0-11eb-83c2-5254eb761bff
SEQUENCE:0
DTSTAMP:20260423T195254Z
END:VEVENT
END:VCALENDAR
