BEGIN:VCALENDAR
VERSION:2.0
PRODID:-ABConcerts-events
METHOD:PUBLISH
BEGIN:VEVENT
TRANSP:OPAQUE
DTSTART:20130601T200000
DTEND:20130601T223000
SUMMARY:Lightnin' Guy & the Mighty Gators + Tiny Legs Tim
LOCATION:AB Club - staand (Anspachlaan 110\, 1000 Brussel)
DESCRIPTION:Blues & Roots Music Made in Belgium!
URL;VALUE=URI:https://www.abconcerts.be/en/agenda/lightnin-guy-the-mighty-gators-tiny-legs-tim/a105J000001wdzNQAQ
UID:ABConcerts_event_9c328f4c-59a0-11eb-9b4b-5254eb761bff
SEQUENCE:0
DTSTAMP:20260419T163532Z
END:VEVENT
END:VCALENDAR
