BEGIN:VCALENDAR
VERSION:2.0
PRODID:-ABConcerts-events
METHOD:PUBLISH
BEGIN:VEVENT
TRANSP:OPAQUE
DTSTART:20141127T194500
DTEND:20141127T223000
SUMMARY:Les Ogres de Barback
LOCATION:AB Grote zaal (Anspachlaan 110\, 1000 Brussel)
DESCRIPTION:Les Ogres will celebrate their 20th birthday at AB!
URL;VALUE=URI:https://www.abconcerts.be/en/agenda/les-ogres-de-barback/a105J000001wgurQAA
UID:ABConcerts_event_0cdab6a4-599f-11eb-9e2c-5254eb761bff
SEQUENCE:0
DTSTAMP:20260423T091112Z
END:VEVENT
END:VCALENDAR
