BEGIN:VCALENDAR
VERSION:2.0
PRODID:-ABConcerts-events
METHOD:PUBLISH
BEGIN:VEVENT
TRANSP:OPAQUE
DTSTART:20170406T203000
DTEND:20170406T213000
SUMMARY:Les Filles de Illighadad
LOCATION:Bonnefooi (unknown\, 1000 Brussel)
DESCRIPTION:‘Fresh Toeareg energy somewhere between trance and\ntradition’ (Gonzo Circus)
URL;VALUE=URI:https://www.abconcerts.be/en/agenda/les-filles-de-illighadad/a105J000001wdPoQAI
UID:ABConcerts_event_9537a830-59a0-11eb-a71d-5254eb761bff
SEQUENCE:0
DTSTAMP:20260422T232839Z
END:VEVENT
END:VCALENDAR
