BEGIN:VCALENDAR
VERSION:2.0
PRODID:-ABConcerts-events
METHOD:PUBLISH
BEGIN:VEVENT
TRANSP:OPAQUE
DTSTART:20150512T200000
DTEND:20150512T223000
SUMMARY:Laura Marling
LOCATION:AB Box (Anspachlaan 110\, 1000 Brussel)
DESCRIPTION:Short Movie\, new CD\, nu-folk\, dark look
URL;VALUE=URI:https://www.abconcerts.be/en/agenda/laura-marling/a105J000001wdkQQAQ
UID:ABConcerts_event_8f17fd38-59a0-11eb-b1ec-5254eb761bff
SEQUENCE:0
DTSTAMP:20260422T125847Z
END:VEVENT
END:VCALENDAR
