BEGIN:VCALENDAR
VERSION:2.0
PRODID:-ABConcerts-events
METHOD:PUBLISH
BEGIN:VEVENT
TRANSP:OPAQUE
DTSTART:20140305T223000
DTEND:20140305T020000
SUMMARY:Late Night Lotto Vibes III: Modeselektor DJ-set + Monoliths 
DJ-set
LOCATION:AB Club - staand (Anspachlaan 110\, 1000 Brussel)
DESCRIPTION:3/4 of Moderat will extend the party in AB Club!
URL;VALUE=URI:https://www.abconcerts.be/en/agenda/late-night-lotto-vibes-iii-modeselektor-dj-set-monoliths-dj-set/a105J000001weCeQAI
UID:ABConcerts_event_a1682f1c-59a0-11eb-88e9-5254eb761bff
SEQUENCE:0
DTSTAMP:20260422T140707Z
END:VEVENT
END:VCALENDAR
