BEGIN:VCALENDAR
VERSION:2.0
PRODID:-ABConcerts-events
METHOD:PUBLISH
BEGIN:VEVENT
TRANSP:OPAQUE
DTSTART:20140111T200000
DTEND:20140111T223000
SUMMARY:Lamb Of God + Decapitated + Huntress
LOCATION:AB Grote zaal (Anspachlaan 110\, 1000 Brussel)
DESCRIPTION:High-mass for all those who love Heavy Metal!
URL;VALUE=URI:https://www.abconcerts.be/en/agenda/lamb-of-god-decapitated-huntress/a105J000001we3HQAQ
UID:ABConcerts_event_059ea580-599f-11eb-981e-5254eb761bff
SEQUENCE:0
DTSTAMP:20260420T085156Z
END:VEVENT
END:VCALENDAR
