BEGIN:VCALENDAR
VERSION:2.0
PRODID:-ABConcerts-events
METHOD:PUBLISH
BEGIN:VEVENT
TRANSP:OPAQUE
DTSTART:20170414T200000
DTEND:20170414T223000
SUMMARY:La Pegatina
LOCATION:AB Box (Anspachlaan 110\, 1000 Brussel)
DESCRIPTION:Estupendo mestizo\, rumba\, ska etc Catalana
URL;VALUE=URI:https://www.abconcerts.be/en/agenda/la-pegatina/a105J000001wdQOQAY
UID:ABConcerts_event_a20d1a2c-59a0-11eb-b700-5254eb761bff
SEQUENCE:0
DTSTAMP:20260422T215427Z
END:VEVENT
END:VCALENDAR
