BEGIN:VCALENDAR
VERSION:2.0
PRODID:-ABConcerts-events
METHOD:PUBLISH
BEGIN:VEVENT
TRANSP:OPAQUE
DTSTART:20151101T173000
DTEND:20151101T223000
SUMMARY:Kurt Vile & The Violators + Lower Dens + Lushes
LOCATION:AB Grote zaal (Anspachlaan 110\, 1000 Brussel)
DESCRIPTION:wonderful fuzz-rock with classic rock angle
URL;VALUE=URI:https://www.abconcerts.be/en/agenda/kurt-vile-the-violators-lower-dens-lushes/a105J000001wdbAQAQ
UID:ABConcerts_event_55e2c95e-599f-11eb-a4de-5254eb761bff
SEQUENCE:0
DTSTAMP:20260422T035459Z
END:VEVENT
END:VCALENDAR
