BEGIN:VCALENDAR
VERSION:2.0
PRODID:-ABConcerts-events
METHOD:PUBLISH
BEGIN:VEVENT
TRANSP:OPAQUE
DTSTART:20170128T200000
DTEND:20170128T223000
SUMMARY:K's Choice
LOCATION:AB Theater (Anspachlaan 110\, 1000 Brussel)
DESCRIPTION:The Backpack Sessions: bro & sis go cosier
URL;VALUE=URI:https://www.abconcerts.be/en/agenda/ks-choice/a105J000001wdVJQAY
UID:ABConcerts_event_00ce1860-599f-11eb-b4c5-5254eb761bff
SEQUENCE:0
DTSTAMP:20260423T064431Z
END:VEVENT
END:VCALENDAR
