BEGIN:VCALENDAR
VERSION:2.0
PRODID:-ABConcerts-events
METHOD:PUBLISH
BEGIN:VEVENT
TRANSP:OPAQUE
DTSTART:20151026T200000
DTEND:20151026T223000
SUMMARY:Kristin Anna
LOCATION:AB Salon - zittend (Steenstraat 11\, 1000 Brussel)
DESCRIPTION:Solo piano concert by ex Mùm frontwoman
URL;VALUE=URI:https://www.abconcerts.be/en/agenda/kristin-anna/a105J000001wdYvQAI
UID:ABConcerts_event_9d548268-59a0-11eb-9d7a-5254eb761bff
SEQUENCE:0
DTSTAMP:20260424T013439Z
END:VEVENT
END:VCALENDAR
