BEGIN:VCALENDAR
VERSION:2.0
PRODID:-ABConcerts-events
METHOD:PUBLISH
BEGIN:VEVENT
TRANSP:OPAQUE
DTSTART:20240410T190000
DTEND:20240410T223000
SUMMARY:Kowari
LOCATION:AB Club - staand (Anspachlaan 110\, 1000 Brussel)
DESCRIPTION:Emotional and cinematographic rollercoaster
URL;VALUE=URI:https://www.abconcerts.be/en/agenda/kowari/a10Qw000000Akj7IAC
UID:ABConcerts_event_1ee772d9-9342-67f8-b7ee-9536c233ad62
SEQUENCE:0
DTSTAMP:20260423T181701Z
END:VEVENT
END:VCALENDAR
