BEGIN:VCALENDAR
VERSION:2.0
PRODID:-ABConcerts-events
METHOD:PUBLISH
BEGIN:VEVENT
TRANSP:OPAQUE
DTSTART:20170408T203000
DTEND:20170408T223000
SUMMARY:Kælan Mikla
LOCATION:Bonnefooi (unknown\, 1000 Brussel)
DESCRIPTION:Stunning Icelandic synth punk & no wave meets nihilistic\npoetry
URL;VALUE=URI:https://www.abconcerts.be/en/agenda/kaelan-mikla/a105J000001wdQFQAY
UID:ABConcerts_event_b845b86c-59a0-11eb-92fa-5254eb761bff
SEQUENCE:0
DTSTAMP:20260422T214926Z
END:VEVENT
END:VCALENDAR
