BEGIN:VCALENDAR
VERSION:2.0
PRODID:-ABConcerts-events
METHOD:PUBLISH
BEGIN:VEVENT
TRANSP:OPAQUE
DTSTART:20150517T200000
DTEND:20150517T223000
SUMMARY:Jose James: Yesterday I Had The Blues - A Tribute to Billie 
Holiday
LOCATION:AB Theater (Anspachlaan 110\, 1000 Brussel)
DESCRIPTION:Unique tribute to Lady Day for her 100th birthday
URL;VALUE=URI:https://www.abconcerts.be/en/agenda/jose-james-yesterday-i-had-the-blues-a-tribute-to-billie-holiday/a105J000001wdckQAA
UID:ABConcerts_event_4f9d727e-599f-11eb-8c33-5254eb761bff
SEQUENCE:0
DTSTAMP:20260424T182050Z
END:VEVENT
END:VCALENDAR
