BEGIN:VCALENDAR
VERSION:2.0
PRODID:-ABConcerts-events
METHOD:PUBLISH
BEGIN:VEVENT
TRANSP:OPAQUE
DTSTART:20171102T200000
DTEND:20171102T223000
SUMMARY:Jordan Mackampa
LOCATION:AB Salon - zittend (Steenstraat 11\, 1000 Brussel)
DESCRIPTION:Soul\, blues & gospel inspired singer-songwriter
URL;VALUE=URI:https://www.abconcerts.be/en/agenda/jordan-mackampa/a105J000001wdLtQAI
UID:ABConcerts_event_dce6549c-59a0-11eb-a8b3-5254eb761bff
SEQUENCE:0
DTSTAMP:20260422T125334Z
END:VEVENT
END:VCALENDAR
