BEGIN:VCALENDAR
VERSION:2.0
PRODID:-ABConcerts-events
METHOD:PUBLISH
BEGIN:VEVENT
TRANSP:OPAQUE
DTSTART:20140328T200000
DTEND:20140328T223000
SUMMARY:Jools Holland + Galia Arad
LOCATION:AB Grote zaal (Anspachlaan 110\, 1000 Brussel)
DESCRIPTION:That left hand that never stops... and his R&B Orchestra!
URL;VALUE=URI:https://www.abconcerts.be/en/agenda/jools-holland-galia-arad/a105J000001weE3QAI
UID:ABConcerts_event_ee1d6b4e-599e-11eb-8c77-5254eb761bff
SEQUENCE:0
DTSTAMP:20260422T153533Z
END:VEVENT
END:VCALENDAR
