BEGIN:VCALENDAR
VERSION:2.0
PRODID:-ABConcerts-events
METHOD:PUBLISH
BEGIN:VEVENT
TRANSP:OPAQUE
DTSTART:20130928T193000
DTEND:20130928T223000
SUMMARY:Jaimi Faulkner
LOCATION:AB Salon - zittend (Steenstraat 11\, 1000 Brussel)
DESCRIPTION:This multi-talented young Australian has just released his\nEuropean debut (on V2) and wants to share it with us\nall!Armed only with a guitar\, foot stomp board and his\nvoice\, Faulkner throws blues\, soul\, folk and pop into a\nblender and mixes it into an entirely unique style. He was\npicked up in 2005\, by Chris Whitley to tour with him in\nAustralia and he&#39;s now since shared a stage with the\nlikes of Rory Block\, The Holmes Brothers\, Jack Johnson\,\nJulia Stone\,… Music mag OOR wrote: “Those who&#39;ve\nseen Jaimi Faulkner on stage are sold on him; Faulkner is\ngoing to be big.“There&#39;s a good chance that this is\nthe last time you&#39;ll see Jaimi Faulkner in an intimate\nsetting like our AB LivingRoom\, Huis23\, just like it was\nfor Valerie June\, Willis Earl Beal and Cold Specks.\nhttp://www.jaimifaulkner.com/
URL;VALUE=URI:https://www.abconcerts.be/en/agenda/jaimi-faulkner/a105J000001wgrbQAA
UID:ABConcerts_event_16db4ba4-59a0-11eb-8b20-5254eb761bff
SEQUENCE:0
DTSTAMP:20260419T223341Z
END:VEVENT
END:VCALENDAR
