BEGIN:VCALENDAR
VERSION:2.0
PRODID:-ABConcerts-events
METHOD:PUBLISH
BEGIN:VEVENT
TRANSP:OPAQUE
DTSTART:20140308T200000
DTEND:20140308T223000
SUMMARY:Icona Pop
LOCATION:AB Grote zaal (Anspachlaan 110\, 1000 Brussel)
DESCRIPTION:Icona Pop regrets to announce the cancellation of their\nconcert on Saturday 8 March! “Icona Pop has been picked by\nMiley Cyrus to tour with her for 3 months in North America\nand unfortunately it clashes with the short European tour\nthat the band has scheduled in ’14. Our sincerest\napologies to the fans! We hope to be back\nsoon…”Purchased tickets will be refunded.If you received\nyour e-tickets via email\, please reply your confirmation\nemail to info@abconcerts.be with statement of account.If you\nhave tickets\, please return them with statement of account\nto AB Ticketshop\, Anspachlaan 110\, 1000 Brussel   \n“Icona Pop put some punk spirit into dance music” (The\nGuardian) &quot;I Love It is textbook pop perfection”\n(Pitchfork) “The Swedish synth-pop duo Icona Pop sound\nlike the female half of Abba kicking Fernando downstairs in\na drunken rage” (Rolling Stone) Ultra-hip music blog\nStereogum already tipped Icona Pop as one of their ’40\nBest New Bands’ in 2012\, together with fine folks like\nHaim\, Jessie Ware\, Azealia Banks\, Savages and AlunaGeorge\n(women rule pop-land in 2013!). And in homeland Sweden these\ntwo – pardon my Swedish – kåt tjejers have been ‘the\nqueens of fun-pop’ for a while now.  Yet the rest of the\nworld only fell for them after hearing fine phrases like\n“I threw your shit into a bag and pushed it down the\nstairs” or “I crashed my car into a bridge\, I don’t\ncare!” from the fabulous Eurotrash-hit ‘I Love It’\n(penned by Charli XCX). On their self-titled debut\,\navailable here via Warner Music\, they spiced their\nelectro\, pop and house-mix with a high ‘I don’t give a\nf***&#39;-factor. And in the lyrics of new single\n‘Girlfriend’ they openly filched from the late Tupac\nShakur (‘Me And My Girlfriend’).  We&#39;re certainly\nalready fans of Caroline Hjelt and Aino Jawo’s
URL;VALUE=URI:https://www.abconcerts.be/en/agenda/icona-pop/a105J000001weDwQAI
UID:ABConcerts_event_bc37ab38-59a0-11eb-9411-5254eb761bff
SEQUENCE:0
DTSTAMP:20260422T140129Z
END:VEVENT
END:VCALENDAR
