BEGIN:VCALENDAR
VERSION:2.0
PRODID:-ABConcerts-events
METHOD:PUBLISH
BEGIN:VEVENT
TRANSP:OPAQUE
DTSTART:20140520T180000
DTEND:20140520T200000
SUMMARY:IBM [INSPIRED BY BLACK METAL] presents: screening of Until T
he Light Takes Us
LOCATION:AB Salon - zittend (Steenstraat 11\, 1000 Brussel)
DESCRIPTION:Aaron Aites & Audrey Ewell\, 2009\, 93 min.
URL;VALUE=URI:https://www.abconcerts.be/en/agenda/ibm-inspired-by-black-metal-presents-screening-of-until-the-light-takes-us/a105J000001wgtpQAA
UID:ABConcerts_event_3cf37c08-59a0-11eb-99da-5254eb761bff
SEQUENCE:0
DTSTAMP:20260423T003342Z
END:VEVENT
END:VCALENDAR
