BEGIN:VCALENDAR
VERSION:2.0
PRODID:-ABConcerts-events
METHOD:PUBLISH
BEGIN:VEVENT
TRANSP:OPAQUE
DTSTART:20150125T200000
DTEND:20150125T223000
SUMMARY:Hozier
LOCATION:AB Grote zaal (Anspachlaan 110\, 1000 Brussel)
DESCRIPTION:Take Me To Church… & AB!
URL;VALUE=URI:https://www.abconcerts.be/en/agenda/hozier/a105J000001weEDQAY
UID:ABConcerts_event_c8adf08e-59a0-11eb-a06f-5254eb761bff
SEQUENCE:0
DTSTAMP:20260422T182514Z
END:VEVENT
END:VCALENDAR
