BEGIN:VCALENDAR
VERSION:2.0
PRODID:-ABConcerts-events
METHOD:PUBLISH
BEGIN:VEVENT
TRANSP:OPAQUE
DTSTART:20141031T200000
DTEND:20141031T223000
SUMMARY:How To Dress Well
LOCATION:AB Club - staand (Anspachlaan 110\, 1000 Brussel)
DESCRIPTION:Fragile indie R&B.
URL;VALUE=URI:https://www.abconcerts.be/en/agenda/how-to-dress-well/a105J000001wgvuQAA
UID:ABConcerts_event_32d6dd50-59a0-11eb-9dea-5254eb761bff
SEQUENCE:0
DTSTAMP:20260422T100939Z
END:VEVENT
END:VCALENDAR
