BEGIN:VCALENDAR
VERSION:2.0
PRODID:-ABConcerts-events
METHOD:PUBLISH
BEGIN:VEVENT
TRANSP:OPAQUE
DTSTART:20160927T180000
DTEND:20160927T223000
SUMMARY:Holy Spirit Night Bruxelles
LOCATION:AB Grote zaal (Anspachlaan 110\, 1000 Brussel)
DESCRIPTION:www.holyspiritnight.com
URL;VALUE=URI:https://www.abconcerts.be/en/agenda/holy-spirit-night-bruxelles/a105J000001wdVSQAY
UID:ABConcerts_event_d028ae76-59a0-11eb-b49e-5254eb761bff
SEQUENCE:0
DTSTAMP:20260426T031520Z
END:VEVENT
END:VCALENDAR
