BEGIN:VCALENDAR
VERSION:2.0
PRODID:-ABConcerts-events
METHOD:PUBLISH
BEGIN:VEVENT
TRANSP:OPAQUE
DTSTART:20141109T200000
DTEND:20141109T223000
SUMMARY:Helmet - Betty's 20th anniversary tour
LOCATION:AB Grote zaal (Anspachlaan 110\, 1000 Brussel)
DESCRIPTION:A serious portion of 90’s alternative metal in your ears!
URL;VALUE=URI:https://www.abconcerts.be/en/agenda/helmet-bettys-20th-anniversary-tour/a105J000001wgulQAA
UID:ABConcerts_event_3518033c-59a0-11eb-bd02-5254eb761bff
SEQUENCE:0
DTSTAMP:20260423T062104Z
END:VEVENT
END:VCALENDAR
