BEGIN:VCALENDAR
VERSION:2.0
PRODID:-ABConcerts-events
METHOD:PUBLISH
BEGIN:VEVENT
TRANSP:OPAQUE
DTSTART:20141016T200000
DTEND:20141016T223000
SUMMARY:Gruff Rhys
LOCATION:AB Club - staand (Anspachlaan 110\, 1000 Brussel)
DESCRIPTION:Ex-Super Furry Animals frontman on journey of discovery.
URL;VALUE=URI:https://www.abconcerts.be/en/agenda/gruff-rhys/a105J000001wgviQAA
UID:ABConcerts_event_ccf36680-599e-11eb-8ed8-5254eb761bff
SEQUENCE:0
DTSTAMP:20260422T230254Z
END:VEVENT
END:VCALENDAR
