BEGIN:VCALENDAR
VERSION:2.0
PRODID:-ABConcerts-events
METHOD:PUBLISH
BEGIN:VEVENT
TRANSP:OPAQUE
DTSTART:20161113T200000
DTEND:20161113T223000
SUMMARY:Grandgeorge
LOCATION:AB Club - staand (Anspachlaan 110\, 1000 Brussel)
DESCRIPTION:Pop! Super-fun fresh pop! So Fine\, So Logical!
URL;VALUE=URI:https://www.abconcerts.be/en/agenda/grandgeorge/a105J000001wdTUQAY
UID:ABConcerts_event_a57fa54e-59a0-11eb-ab1e-5254eb761bff
SEQUENCE:0
DTSTAMP:20260423T103056Z
END:VEVENT
END:VCALENDAR
