BEGIN:VCALENDAR
VERSION:2.0
PRODID:-ABConcerts-events
METHOD:PUBLISH
BEGIN:VEVENT
TRANSP:OPAQUE
DTSTART:20131022T200000
DTEND:20131022T223000
SUMMARY:Goldfrapp : Tales Of Us
LOCATION:AB Grote zaal (Anspachlaan 110\, 1000 Brussel)
DESCRIPTION:The long-awaited (more acoustic) return of Goldfrapp.
URL;VALUE=URI:https://www.abconcerts.be/en/agenda/goldfrapp-tales-of-us/a105J000001we5ZQAQ
UID:ABConcerts_event_c68ce1ea-599e-11eb-8871-5254eb761bff
SEQUENCE:0
DTSTAMP:20260420T013513Z
END:VEVENT
END:VCALENDAR
