BEGIN:VCALENDAR
VERSION:2.0
PRODID:-ABConcerts-events
METHOD:PUBLISH
BEGIN:VEVENT
TRANSP:OPAQUE
DTSTART:19910601T200000
DTEND:19910601T223000
SUMMARY:Front 242
LOCATION:AB Grote zaal (Anspachlaan 110\, 1000 Brussel)
DESCRIPTION:
URL;VALUE=URI:https://www.abconcerts.be/en/agenda/front-242/a105J000001wgW5QAI
UID:ABConcerts_event_bb6710d8-599e-11eb-8fca-5254eb761bff
SEQUENCE:0
DTSTAMP:20260424T180446Z
END:VEVENT
END:VCALENDAR
