BEGIN:VCALENDAR
VERSION:2.0
PRODID:-ABConcerts-events
METHOD:PUBLISH
BEGIN:VEVENT
TRANSP:OPAQUE
DTSTART:20220329T190000
DTEND:20220329T223000
SUMMARY:FRED*ERIC
LOCATION:AB Club - staand (Anspachlaan 110\, 1000 Brussel)
DESCRIPTION:Every day as the first one
URL;VALUE=URI:https://www.abconcerts.be/en/agenda/frederic/a105J000005HkyLQAS
UID:ABConcerts_event_69f188a2-85a1-11ec-8c35-5254eb761bff
SEQUENCE:0
DTSTAMP:20260421T145918Z
END:VEVENT
END:VCALENDAR
