BEGIN:VCALENDAR
VERSION:2.0
PRODID:-ABConcerts-events
METHOD:PUBLISH
BEGIN:VEVENT
TRANSP:OPAQUE
DTSTART:20181023T200000
DTEND:20181023T223000
SUMMARY:FORMA
LOCATION:AB Salon - zittend (Steenstraat 11\, 1000 Brussel)
DESCRIPTION:Unique set by the pioneers of cosmic electro
URL;VALUE=URI:https://www.abconcerts.be/en/agenda/forma/a105J000001wdCxQAI
UID:ABConcerts_event_37c90bea-599f-11eb-8cdb-5254eb761bff
SEQUENCE:0
DTSTAMP:20260420T145632Z
END:VEVENT
END:VCALENDAR
