BEGIN:VCALENDAR
VERSION:2.0
PRODID:-ABConcerts-events
METHOD:PUBLISH
BEGIN:VEVENT
TRANSP:OPAQUE
DTSTART:20170417T160000
DTEND:20170417T010000
SUMMARY:FLEDDYPALOOZA: Fleddy Melculy + Angel Crew + King Hiss + Sta
b + Set Things Right + Off The Cross + Afterparty by GOE VUR
 IN DEN OTTO
LOCATION:AB Box (Anspachlaan 110\, 1000 Brussel)
DESCRIPTION:Fleddy’s devilish metalfest with GOE VUR IN DEN OTTO as\nafterparty!
URL;VALUE=URI:https://www.abconcerts.be/en/agenda/fleddypalooza-fleddy-melculy-angel-crew-king-hiss-stab-set-things-right-off-the-cross-afterparty-by-goe-vur-in-den-otto/a105J000001wdQiQAI
UID:ABConcerts_event_a81a6da2-59a0-11eb-beed-5254eb761bff
SEQUENCE:0
DTSTAMP:20260421T155532Z
END:VEVENT
END:VCALENDAR
