BEGIN:VCALENDAR
VERSION:2.0
PRODID:-ABConcerts-events
METHOD:PUBLISH
BEGIN:VEVENT
TRANSP:OPAQUE
DTSTART:20161124T200000
DTEND:20161124T223000
SUMMARY:Filmscreening: The Last Waltz
LOCATION:AB Salon - zittend (Steenstraat 11\, 1000 Brussel)
DESCRIPTION:Film classic about the legendary farewell concert
URL;VALUE=URI:https://www.abconcerts.be/en/agenda/filmscreening-the-last-waltz/a105J000001wdSIQAY
UID:ABConcerts_event_ea7c12cc-59a0-11eb-8c1b-5254eb761bff
SEQUENCE:0
DTSTAMP:20260423T092251Z
END:VEVENT
END:VCALENDAR
