BEGIN:VCALENDAR
VERSION:2.0
PRODID:-ABConcerts-events
METHOD:PUBLISH
BEGIN:VEVENT
TRANSP:OPAQUE
DTSTART:20251114T190000
DTEND:20251114T223000
SUMMARY:Fifty Lab 2025 - Day 3
LOCATION:AB Club - staand (Anspachlaan 110\, 1000 Brussel)
DESCRIPTION:Discover the best emerging artists from Belgium and beyond\nat Fifty Lab in AB
URL;VALUE=URI:https://www.abconcerts.be/en/agenda/fifty-lab-2025-day-3/a10Qw000001bq2HIAQ
UID:ABConcerts_event_1f051abd-c3cd-6f7c-98c1-796f800e4a06
SEQUENCE:0
DTSTAMP:20260421T151152Z
END:VEVENT
END:VCALENDAR
