BEGIN:VCALENDAR
VERSION:2.0
PRODID:-ABConcerts-events
METHOD:PUBLISH
BEGIN:VEVENT
TRANSP:OPAQUE
DTSTART:20180420T200000
DTEND:20180420T223000
SUMMARY:Faces on TV
LOCATION:AB Box (Anspachlaan 110\, 1000 Brussel)
DESCRIPTION:Celebrated sound-architect & multi-instrumentalist deals in\nexciting trip-pop
URL;VALUE=URI:https://www.abconcerts.be/en/agenda/faces-on-tv/a105J000001wdJSQAY
UID:ABConcerts_event_7754e90e-59a0-11eb-ba80-5254eb761bff
SEQUENCE:0
DTSTAMP:20260425T161427Z
END:VEVENT
END:VCALENDAR
