BEGIN:VCALENDAR
VERSION:2.0
PRODID:-ABConcerts-events
METHOD:PUBLISH
BEGIN:VEVENT
TRANSP:OPAQUE
DTSTART:20160608T200000
DTEND:20160608T223000
SUMMARY:Explosions In The Sky
LOCATION:AB Grote zaal (Anspachlaan 110\, 1000 Brussel)
DESCRIPTION:Texan post-rock force serves up 6th album The Wilderness
URL;VALUE=URI:https://www.abconcerts.be/en/agenda/explosions-in-the-sky/a105J000001wdW5QAI
UID:ABConcerts_event_aff78462-599e-11eb-86cb-5254eb761bff
SEQUENCE:0
DTSTAMP:20260423T164838Z
END:VEVENT
END:VCALENDAR
