BEGIN:VCALENDAR
VERSION:2.0
PRODID:-ABConcerts-events
METHOD:PUBLISH
BEGIN:VEVENT
TRANSP:OPAQUE
DTSTART:20151113T190000
DTEND:20151113T223000
SUMMARY:Evil Invaders + Your Highness
LOCATION:AB Club - staand (Anspachlaan 110\, 1000 Brussel)
DESCRIPTION:Rabid Belgian metal debuts on Napalm Records
URL;VALUE=URI:https://www.abconcerts.be/en/agenda/evil-invaders-your-highness/a105J000001wdc5QAA
UID:ABConcerts_event_5625b2c8-599f-11eb-ba9b-5254eb761bff
SEQUENCE:0
DTSTAMP:20260422T034341Z
END:VEVENT
END:VCALENDAR
