BEGIN:VCALENDAR
VERSION:2.0
PRODID:-ABConcerts-events
METHOD:PUBLISH
BEGIN:VEVENT
TRANSP:OPAQUE
DTSTART:19880609T200000
DTEND:19880609T223000
SUMMARY:Erasure
LOCATION:AB Grote zaal (Anspachlaan 110\, 1000 Brussel)
DESCRIPTION:
URL;VALUE=URI:https://www.abconcerts.be/en/agenda/erasure/a105J000001wfaLQAQ
UID:ABConcerts_event_ac8a88ba-599e-11eb-9395-5254eb761bff
SEQUENCE:0
DTSTAMP:20260421T181536Z
END:VEVENT
END:VCALENDAR
