BEGIN:VCALENDAR
VERSION:2.0
PRODID:-ABConcerts-events
METHOD:PUBLISH
BEGIN:VEVENT
TRANSP:OPAQUE
DTSTART:20160921T200000
DTEND:20160921T223000
SUMMARY:Echo Collective plays 'Amnesiac' (Radiohead)
LOCATION:AB Salon - zittend (Steenstraat 11\, 1000 Brussel)
DESCRIPTION:Radiohead’s ‘Amnesiac’ (radical) classical remake
URL;VALUE=URI:https://www.abconcerts.be/en/agenda/echo-collective-plays-amnesiac-radiohead/a105J000001wdThQAI
UID:ABConcerts_event_aa1e0c08-59a0-11eb-9a21-5254eb761bff
SEQUENCE:0
DTSTAMP:20260423T152205Z
END:VEVENT
END:VCALENDAR
