BEGIN:VCALENDAR
VERSION:2.0
PRODID:-ABConcerts-events
METHOD:PUBLISH
BEGIN:VEVENT
TRANSP:OPAQUE
DTSTART:20161014T200000
DTEND:20161014T223000
SUMMARY:Dua Lipa
LOCATION:AB Grote zaal (Anspachlaan 110\, 1000 Brussel)
DESCRIPTION:Electro-pop throne heiress debuts after ‘BBC Sound Of\n’16’ placing
URL;VALUE=URI:https://www.abconcerts.be/en/agenda/dua-lipa/a105J000001wdUkQAI
UID:ABConcerts_event_c203db5e-59a0-11eb-8262-5254eb761bff
SEQUENCE:0
DTSTAMP:20260422T085503Z
END:VEVENT
END:VCALENDAR
