BEGIN:VCALENDAR
VERSION:2.0
PRODID:-ABConcerts-events
METHOD:PUBLISH
BEGIN:VEVENT
TRANSP:OPAQUE
DTSTART:20140222T200000
DTEND:20140222T223000
SUMMARY:Delrue
LOCATION:AB Club - staand (Anspachlaan 110\, 1000 Brussel)
DESCRIPTION:Frontman Yevgueni writes + sings in the language of\nMolière.
URL;VALUE=URI:https://www.abconcerts.be/en/agenda/delrue/a105J000001we3SQAQ
UID:ABConcerts_event_8550b664-59a0-11eb-a177-5254eb761bff
SEQUENCE:0
DTSTAMP:20260422T122520Z
END:VEVENT
END:VCALENDAR
