BEGIN:VCALENDAR
VERSION:2.0
PRODID:-ABConcerts-events
METHOD:PUBLISH
BEGIN:VEVENT
TRANSP:OPAQUE
DTSTART:20160526T200000
DTEND:20160526T223000
SUMMARY:Daptone Records presents The Mystery Lights
LOCATION:AB Club - staand (Anspachlaan 110\, 1000 Brussel)
DESCRIPTION:Brooklyn’s NOW sound in rock ‘n roll!
URL;VALUE=URI:https://www.abconcerts.be/en/agenda/daptone-records-presents-the-mystery-lights/a105J000001wdVYQAY
UID:ABConcerts_event_d5ad8cae-59a0-11eb-a2d7-5254eb761bff
SEQUENCE:0
DTSTAMP:20260423T182434Z
END:VEVENT
END:VCALENDAR
