BEGIN:VCALENDAR
VERSION:2.0
PRODID:-ABConcerts-events
METHOD:PUBLISH
BEGIN:VEVENT
TRANSP:OPAQUE
DTSTART:20151021T190000
DTEND:20151021T223000
SUMMARY:Daptone Records presents Saun & Starr
LOCATION:AB Club - staand (Anspachlaan 110\, 1000 Brussel)
DESCRIPTION:100% vintage funk/soul from Daptone Records
URL;VALUE=URI:https://www.abconcerts.be/en/agenda/daptone-records-presents-saun-starr/a105J000001wdbmQAA
UID:ABConcerts_event_553bd0fe-599f-11eb-80a4-5254eb761bff
SEQUENCE:0
DTSTAMP:20260424T001811Z
END:VEVENT
END:VCALENDAR
