BEGIN:VCALENDAR
VERSION:2.0
PRODID:-ABConcerts-events
METHOD:PUBLISH
BEGIN:VEVENT
TRANSP:OPAQUE
DTSTART:20131221T201500
DTEND:20131221T223000
SUMMARY:Daan
LOCATION:AB Grote zaal (Anspachlaan 110\, 1000 Brussel)
DESCRIPTION:Daan surprises again with his 7th studio album
URL;VALUE=URI:https://www.abconcerts.be/en/agenda/daan/a105J000001we5VQAQ
UID:ABConcerts_event_913cd0e0-599e-11eb-a0e5-5254eb761bff
SEQUENCE:0
DTSTAMP:20260420T084502Z
END:VEVENT
END:VCALENDAR
