BEGIN:VCALENDAR
VERSION:2.0
PRODID:-ABConcerts-events
METHOD:PUBLISH
BEGIN:VEVENT
TRANSP:OPAQUE
DTSTART:20161217T200000
DTEND:20161217T223000
SUMMARY:Crystal Castles
LOCATION:AB Grote zaal (Anspachlaan 110\, 1000 Brussel)
DESCRIPTION:Crystal Castles transforms AB into a churning dance temple
URL;VALUE=URI:https://www.abconcerts.be/en/agenda/crystal-castles/a105J000001wdTCQAY
UID:ABConcerts_event_8fdd93ce-599e-11eb-bf7e-5254eb761bff
SEQUENCE:0
DTSTAMP:20260423T080546Z
END:VEVENT
END:VCALENDAR
