BEGIN:VCALENDAR
VERSION:2.0
PRODID:-ABConcerts-events
METHOD:PUBLISH
BEGIN:VEVENT
TRANSP:OPAQUE
DTSTART:20200223T180000
DTEND:20200223T223000
SUMMARY:Coca-Cola Sessions: Tsar B + Dvtch Norris
LOCATION:AB Club - staand (Anspachlaan 110\, 1000 Brussel)
DESCRIPTION:Celebrate 10 years of Coca-Cola Sessions with the most\nexciting new hip-hop and urban pop!
URL;VALUE=URI:https://www.abconcerts.be/en/agenda/coca-cola-sessions-tsar-b-dvtch-norris/a105J000001wd3BQAQ
UID:ABConcerts_event_5869e0d6-599f-11eb-a745-5254eb761bff
SEQUENCE:0
DTSTAMP:20260420T052324Z
END:VEVENT
END:VCALENDAR
