BEGIN:VCALENDAR
VERSION:2.0
PRODID:-ABConcerts-events
METHOD:PUBLISH
BEGIN:VEVENT
TRANSP:OPAQUE
DTSTART:20150211T200000
DTEND:20150211T223000
SUMMARY:Coca-Cola Sessions: Douglas Firs
LOCATION:AB Club - staand (Anspachlaan 110\, 1000 Brussel)
DESCRIPTION:Blues\, americana & folk unite on ‘The Long Answer Is\nNo’
URL;VALUE=URI:https://www.abconcerts.be/en/agenda/coca-cola-sessions-douglas-firs/a105J000001wdmLQAQ
UID:ABConcerts_event_80738464-59a0-11eb-a171-5254eb761bff
SEQUENCE:0
DTSTAMP:20260421T032914Z
END:VEVENT
END:VCALENDAR
