BEGIN:VCALENDAR
VERSION:2.0
PRODID:-ABConcerts-events
METHOD:PUBLISH
BEGIN:VEVENT
TRANSP:OPAQUE
DTSTART:20161016T163000
DTEND:20161016T183000
SUMMARY:Classic Album Listening Session - 50 years: Frank Zappa - Fr
eak Out!
LOCATION:AB Salon - zittend (Steenstraat 11\, 1000 Brussel)
DESCRIPTION:Golden jubilee of Zappa’s debut
URL;VALUE=URI:https://www.abconcerts.be/en/agenda/classic-album-listening-session-50-years-frank-zappa-freak-out/a105J000001wdTXQAY
UID:ABConcerts_event_a6967f3e-59a0-11eb-a01a-5254eb761bff
SEQUENCE:0
DTSTAMP:20260424T170209Z
END:VEVENT
END:VCALENDAR
