BEGIN:VCALENDAR
VERSION:2.0
PRODID:-ABConcerts-events
METHOD:PUBLISH
BEGIN:VEVENT
TRANSP:OPAQUE
DTSTART:20140216T200000
DTEND:20140216T223000
SUMMARY:City And Colour + Hannah Georgas
LOCATION:AB Grote zaal (Anspachlaan 110\, 1000 Brussel)
DESCRIPTION:One of the biggest groundswell stories in Canadian music
URL;VALUE=URI:https://www.abconcerts.be/en/agenda/city-and-colour-hannah-georgas/a105J000001weDqQAI
UID:ABConcerts_event_bbf542a2-59a0-11eb-807b-5254eb761bff
SEQUENCE:0
DTSTAMP:20260422T123823Z
END:VEVENT
END:VCALENDAR
