BEGIN:VCALENDAR
VERSION:2.0
PRODID:-ABConcerts-events
METHOD:PUBLISH
BEGIN:VEVENT
TRANSP:OPAQUE
DTSTART:20180309T200000
DTEND:20180309T223000
SUMMARY:Chynna
LOCATION:AB Club - staand (Anspachlaan 110\, 1000 Brussel)
DESCRIPTION:Rap's high priestess
URL;VALUE=URI:https://www.abconcerts.be/en/agenda/chynna/a105J000001wdIYQAY
UID:ABConcerts_event_75cbd75a-59a0-11eb-b28d-5254eb761bff
SEQUENCE:0
DTSTAMP:20260425T140830Z
END:VEVENT
END:VCALENDAR
